BEGIN:VCALENDAR
VERSION:2.0
PRODID:-//Trinity Behavioral Care - ECPv6.15.20//NONSGML v1.0//EN
CALSCALE:GREGORIAN
METHOD:PUBLISH
X-WR-CALNAME:Trinity Behavioral Care
X-ORIGINAL-URL:https://www.trinitybehavioralcare.org
X-WR-CALDESC:Events for Trinity Behavioral Care
REFRESH-INTERVAL;VALUE=DURATION:PT1H
X-Robots-Tag:noindex
X-PUBLISHED-TTL:PT1H
BEGIN:VTIMEZONE
TZID:America/New_York
BEGIN:DAYLIGHT
TZOFFSETFROM:-0500
TZOFFSETTO:-0400
TZNAME:EDT
DTSTART:20240310T070000
END:DAYLIGHT
BEGIN:STANDARD
TZOFFSETFROM:-0400
TZOFFSETTO:-0500
TZNAME:EST
DTSTART:20241103T060000
END:STANDARD
BEGIN:DAYLIGHT
TZOFFSETFROM:-0500
TZOFFSETTO:-0400
TZNAME:EDT
DTSTART:20250309T070000
END:DAYLIGHT
BEGIN:STANDARD
TZOFFSETFROM:-0400
TZOFFSETTO:-0500
TZNAME:EST
DTSTART:20251102T060000
END:STANDARD
BEGIN:DAYLIGHT
TZOFFSETFROM:-0500
TZOFFSETTO:-0400
TZNAME:EDT
DTSTART:20260308T070000
END:DAYLIGHT
BEGIN:STANDARD
TZOFFSETFROM:-0400
TZOFFSETTO:-0500
TZNAME:EST
DTSTART:20261101T060000
END:STANDARD
END:VTIMEZONE
BEGIN:VEVENT
DTSTART;TZID=America/New_York:20250425T083000
DTEND;TZID=America/New_York:20250425T170000
DTSTAMP:20260421T204817
CREATED:20250415T151744Z
LAST-MODIFIED:20250415T151810Z
UID:1280-1745569800-1745600400@www.trinitybehavioralcare.org
SUMMARY:Drug Take Back - Marion
DESCRIPTION:
URL:https://www.trinitybehavioralcare.org/event/drug-take-back-marion-2/
LOCATION:Marion County Sheriff’s Office\, 1811 N Bypass 501\, Marion\, South Carolina\, 29571\, United States
END:VEVENT
BEGIN:VEVENT
DTSTART;TZID=America/New_York:20250425T100000
DTEND;TZID=America/New_York:20250425T140000
DTSTAMP:20260421T204817
CREATED:20250415T152049Z
LAST-MODIFIED:20250415T152049Z
UID:1285-1745575200-1745589600@www.trinitybehavioralcare.org
SUMMARY:Drug Take Back - Dillon
DESCRIPTION:
URL:https://www.trinitybehavioralcare.org/event/drug-take-back-dillon/
LOCATION:Dillon County Sheriff’s Office\, 1033 Old Latta Highway\, Dillon\, SC\, 29536\, United States
END:VEVENT
BEGIN:VEVENT
DTSTART;TZID=America/New_York:20250425T110000
DTEND;TZID=America/New_York:20250425T110000
DTSTAMP:20260421T204817
CREATED:20250303T153530Z
LAST-MODIFIED:20250303T153530Z
UID:1241-1745578800-1745578800@www.trinitybehavioralcare.org
SUMMARY:Veterans Stand Down and Community Resource Day
DESCRIPTION:
URL:https://www.trinitybehavioralcare.org/event/veterans-stand-down-and-community-resource-day/
LOCATION:SC
END:VEVENT
BEGIN:VEVENT
DTSTART;TZID=America/New_York:20250426T100000
DTEND;TZID=America/New_York:20250426T140000
DTSTAMP:20260421T204817
CREATED:20250415T152942Z
LAST-MODIFIED:20250415T152942Z
UID:1291-1745661600-1745676000@www.trinitybehavioralcare.org
SUMMARY:Drug Take Back - Marlboro
DESCRIPTION:
URL:https://www.trinitybehavioralcare.org/event/drug-take-back-marlboro/
LOCATION:Bennettsville Square\, 1246 Bennettsville Sq\, Bennettsville\, South Carolina\, 29512\, United States
END:VEVENT
END:VCALENDAR