BEGIN:VCALENDAR
VERSION:2.0
PRODID:-//Trinity Behavioral Care - ECPv6.15.20//NONSGML v1.0//EN
CALSCALE:GREGORIAN
METHOD:PUBLISH
X-ORIGINAL-URL:https://www.trinitybehavioralcare.org
X-WR-CALDESC:Events for Trinity Behavioral Care
REFRESH-INTERVAL;VALUE=DURATION:PT1H
X-Robots-Tag:noindex
X-PUBLISHED-TTL:PT1H
BEGIN:VTIMEZONE
TZID:America/New_York
BEGIN:DAYLIGHT
TZOFFSETFROM:-0500
TZOFFSETTO:-0400
TZNAME:EDT
DTSTART:20240310T070000
END:DAYLIGHT
BEGIN:STANDARD
TZOFFSETFROM:-0400
TZOFFSETTO:-0500
TZNAME:EST
DTSTART:20241103T060000
END:STANDARD
BEGIN:DAYLIGHT
TZOFFSETFROM:-0500
TZOFFSETTO:-0400
TZNAME:EDT
DTSTART:20250309T070000
END:DAYLIGHT
BEGIN:STANDARD
TZOFFSETFROM:-0400
TZOFFSETTO:-0500
TZNAME:EST
DTSTART:20251102T060000
END:STANDARD
BEGIN:DAYLIGHT
TZOFFSETFROM:-0500
TZOFFSETTO:-0400
TZNAME:EDT
DTSTART:20260308T070000
END:DAYLIGHT
BEGIN:STANDARD
TZOFFSETFROM:-0400
TZOFFSETTO:-0500
TZNAME:EST
DTSTART:20261101T060000
END:STANDARD
END:VTIMEZONE
BEGIN:VEVENT
DTSTART;TZID=America/New_York:20250317T100000
DTEND;TZID=America/New_York:20250317T100000
DTSTAMP:20260421T191538
CREATED:20250313T141526Z
LAST-MODIFIED:20250313T141627Z
UID:1247-1742205600-1742205600@www.trinitybehavioralcare.org
SUMMARY:Narcan Drive (McColl)
DESCRIPTION:
URL:https://www.trinitybehavioralcare.org/event/narcan-drive/
LOCATION:McColl Town Hall\, 300 S Main St\, McColl\, South Carolina
END:VEVENT
BEGIN:VEVENT
DTSTART;TZID=America/New_York:20250325T100000
DTEND;TZID=America/New_York:20250325T140000
DTSTAMP:20260421T191538
CREATED:20250313T194320Z
LAST-MODIFIED:20250313T194320Z
UID:1265-1742896800-1742911200@www.trinitybehavioralcare.org
SUMMARY:Narcan Drive (Wallace)
DESCRIPTION:
URL:https://www.trinitybehavioralcare.org/event/narcan-drive-wallace/
LOCATION:Kings Corner Laundromat\, 4159 Highway 1\, Wallace\, SC\, 29596\, United States
END:VEVENT
BEGIN:VEVENT
DTSTART;TZID=America/New_York:20250327T110000
DTEND;TZID=America/New_York:20250327T110000
DTSTAMP:20260421T191538
CREATED:20250313T142352Z
LAST-MODIFIED:20250313T142532Z
UID:1252-1743073200-1743073200@www.trinitybehavioralcare.org
SUMMARY:Drug Take Back (Marion)
DESCRIPTION:
URL:https://www.trinitybehavioralcare.org/event/drug-take-back-marion/
LOCATION:CVS Marion\, 700 N Main St\, Marion\, 29571\, United States
END:VEVENT
BEGIN:VEVENT
DTSTART;TZID=America/New_York:20250329T140000
DTEND;TZID=America/New_York:20250329T170000
DTSTAMP:20260421T191538
CREATED:20250313T142746Z
LAST-MODIFIED:20250313T142746Z
UID:1256-1743256800-1743267600@www.trinitybehavioralcare.org
SUMMARY:Skate Free Drug Free
DESCRIPTION:
URL:https://www.trinitybehavioralcare.org/event/skate-free-drug-free/
LOCATION:Martin’s Skating Center\, 3129 E Highway 76\, Mullins\, SC\, 29574\, United States
END:VEVENT
END:VCALENDAR